BEGIN:VCALENDAR
VERSION:2.0
PRODID:-//Μαριάννα Τηλιοπούλου - ECPv6.15.20//NONSGML v1.0//EN
CALSCALE:GREGORIAN
METHOD:PUBLISH
X-ORIGINAL-URL:https://marianyoga.com
X-WR-CALDESC:Events for Μαριάννα Τηλιοπούλου
REFRESH-INTERVAL;VALUE=DURATION:PT1H
X-Robots-Tag:noindex
X-PUBLISHED-TTL:PT1H
BEGIN:VTIMEZONE
TZID:Europe/Athens
BEGIN:DAYLIGHT
TZOFFSETFROM:+0200
TZOFFSETTO:+0300
TZNAME:EEST
DTSTART:20250330T010000
END:DAYLIGHT
BEGIN:STANDARD
TZOFFSETFROM:+0300
TZOFFSETTO:+0200
TZNAME:EET
DTSTART:20251026T010000
END:STANDARD
BEGIN:DAYLIGHT
TZOFFSETFROM:+0200
TZOFFSETTO:+0300
TZNAME:EEST
DTSTART:20260329T010000
END:DAYLIGHT
BEGIN:STANDARD
TZOFFSETFROM:+0300
TZOFFSETTO:+0200
TZNAME:EET
DTSTART:20261025T010000
END:STANDARD
BEGIN:DAYLIGHT
TZOFFSETFROM:+0200
TZOFFSETTO:+0300
TZNAME:EEST
DTSTART:20270328T010000
END:DAYLIGHT
BEGIN:STANDARD
TZOFFSETFROM:+0300
TZOFFSETTO:+0200
TZNAME:EET
DTSTART:20271031T010000
END:STANDARD
END:VTIMEZONE
BEGIN:VEVENT
DTSTART;VALUE=DATE:20260612
DTEND;VALUE=DATE:20260615
DTSTAMP:20260423T223619
CREATED:20260402T215839Z
LAST-MODIFIED:20260414T145959Z
UID:4568-1781222400-1781481599@marianyoga.com
SUMMARY:Move\, Connect\, Play\, Re-peat
DESCRIPTION:Ξεκινήστε το καλοκαίρι σας με ένα τριήμερο γεμάτο yoga\, παιχνίδια\, Acroyoga\, πεζοπορίες και community vibe μέσα στη φύση.\n\nΣε λιγότερο από 2 ώρες από την Αθήνα\, στο Triton II Camping & Hotel — έναν όμορφο χώρο glamping δίπλα στη θάλασσα\, κοντά στο Τολό\, με επιλογές για όλα τα γούστα— δωμάτια σε πολυτελές ξενοδοχείο\, τροπικές ξύλινες καλύβες ή σκηνές\, όπου η άνεση συναντά την αίσθηση του “ελεύθερου” και του φυσικού περιβάλλοντος. \nΈνα τριήμερο καθοδηγούμενο από τους Μαριάννα Τηλιοπούλου και Γιάννη Καρβέλη\, που συνδυάζει ροή\, παιχνίδι\, σύνδεση — με τον εαυτό μας και με τους άλλους. \n  \nΗ μέρες μας θα περιλαμβάνουν μαθήματα:\n🤸 Acroyoga — παιχνίδι\, εμπιστοσύνη\, συνεργασία και γέλιο. Δε χρειάζεται προηγούμενη εμπειρία\, μόνο διάθεση να δοκιμάσεις και να αφεθείς στην ομάδα\n🧘‍♀️ Vinyasa flow yoga — μαθήματα\, με έμφαση στη συνεχή ροή της κίνησης και της αναπνοής\, προσβάσιμα και προσαρμοσμένα σε όλα τα επίπεδα\, ώστε ο καθένας να μπορεί να κινηθεί στο δικό του ρυθμό και επίπεδο \n\nΤι θα ζήσουμε\n Flow practices με έμφαση στη σύνδεση σώματος-αναπνοής\n🤸 Acroyoga\, στηρίξεις\, group games & aqua-batics (ακροβατικά στη θάλασσα)\n🌲 Πεζοπορίες στη φύση\n⛱️Χρόνο για χαλάρωση και ξεκούραση δίπλα στη θάλασσα\n💦 Μπάνια\, ηλιοβασιλέματα\, αυθόρμητες στιγμές\n⭐Βραδινές συναντήσεις κάτω από τα αστέρια\nΑν θέλεις να κινηθείς\, να γελάσεις\, να συνδεθείς και να θυμηθείς πόσο ωραίο είναι να παίζεις\, αυτό το τριήμερο είναι για σένα. \n \n\nΔιαμονή\nΤο Triton II Camping & Hotel βρίσκεται στην υπέροχη παραλία του Δρέπανου\, μόλις 12 χιλιόμετρα από την όμορφη παλιά πόλη του Ναυπλίου. Έχετε τη δυνατότητα να επιλέξετε διαμονή σε δωμάτιο του ξενοδοχείου\, σε ξύλινη τροπική καλύβα ή στις εγκαταστάσεις του camping.\n\n\n  \n\n  \n \nΣτην τιμή περιλαμβάνονται\n✅2 διανυκτερεύσεις σε πολυτελές ξενοδοχείο ή τροπική καλύβα (δυνατότητα διαμονής και 3 νύχτες)\n✅Πλούσιο πρωινό\n✅Καθημερινές πρακτικές acro yoga και vinyasa flow yoga\n✅Πεζοπορία σε μονοπάτια\n  \nΣτην τιμή δεν περιλαμβάνονται\n❌Γεύματα πλην του πρωινού\n❌Εξοπλισμός camping\n❌Έξοδα μετακίνησης προς και από το Triton\nΠροτιμήστε το car pooling για οικολογικότερη και οικονομικότερη μετακίνηση\n  \nΚόστος συμμετοχής\n🍉🍉Δίκλινο δωμάτιο στο ξενοδοχείο\, 230€ ανά άτομο\n🥥🥥Δίκλινο δωμάτιο “τροπική ξύλινη καλύβα”\, 210€ ανά άτομο\n🍓Μονόκλινο δωμάτιο στο ξενοδοχείο\, 300€\n🍍Συμμετοχή με σκηνή\, 160€\nΗ συμμετοχή με σκηνή περιλαμβάνει μόνο τη συμμετοχή στα μαθήματα\, το πρωινό γεύμα και την πεζοπορία. Τα έξοδα του camping\, περίπου 30€\, τα αναλαμβάνει το κάθε άτομο ανάλογα με το πόσα άτομα θα μείνουν σε κάθε σκηνή.\n*Στις τιμές δεν περιλαμβάνεται Φ.Π.Α.\n  \nΤρόπος πληρωμής-κρατήσεις\n Προκαταβολή 100€ για κατοχύρωση θέσης Δηλώσεις συμμετοχής έως 17 Μαΐου Εξόφληση συνολικού ποσού έως 31 Μαΐου Σε περίπτωση ακύρωσης μέχρι 17 Μαΐου η προκαταβολή δεν επιστρέφεται. Μετά τις 31 Μαΐου κανένα ποσό δεν επιστρέφεται.\n  \n\n Πληροφορίες\nΜαριάννα: 6972010087 – tilmariann2@gmail.com\nΓιάννης: 6973025103 – acroyogajohn@gmail.com \n\nΔηλώστε συμμετοχή εδώ
URL:https://marianyoga.com/event/move-connect-play-re-peat/
LOCATION:Triton II Camping & Hotel\, Παραλία Πλάκας Δρεπάνου\, Ναύπλιο\, 210 60\, Greece
CATEGORIES:Retreats
ATTACH;FMTTYPE=image/jpeg:https://marianyoga.com/wp-content/uploads/2026/04/Move-Connect-Play-Re-peat-1.jpg
END:VEVENT
END:VCALENDAR