BEGIN:VCALENDAR
VERSION:2.0
PRODID:-//Μαριάννα Τηλιοπούλου - ECPv6.15.20//NONSGML v1.0//EN
CALSCALE:GREGORIAN
METHOD:PUBLISH
X-WR-CALNAME:Μαριάννα Τηλιοπούλου
X-ORIGINAL-URL:https://marianyoga.com
X-WR-CALDESC:Events for Μαριάννα Τηλιοπούλου
REFRESH-INTERVAL;VALUE=DURATION:PT1H
X-Robots-Tag:noindex
X-PUBLISHED-TTL:PT1H
BEGIN:VTIMEZONE
TZID:Europe/Athens
BEGIN:DAYLIGHT
TZOFFSETFROM:+0200
TZOFFSETTO:+0300
TZNAME:EEST
DTSTART:20230326T010000
END:DAYLIGHT
BEGIN:STANDARD
TZOFFSETFROM:+0300
TZOFFSETTO:+0200
TZNAME:EET
DTSTART:20231029T010000
END:STANDARD
BEGIN:DAYLIGHT
TZOFFSETFROM:+0200
TZOFFSETTO:+0300
TZNAME:EEST
DTSTART:20240331T010000
END:DAYLIGHT
BEGIN:STANDARD
TZOFFSETFROM:+0300
TZOFFSETTO:+0200
TZNAME:EET
DTSTART:20241027T010000
END:STANDARD
BEGIN:DAYLIGHT
TZOFFSETFROM:+0200
TZOFFSETTO:+0300
TZNAME:EEST
DTSTART:20250330T010000
END:DAYLIGHT
BEGIN:STANDARD
TZOFFSETFROM:+0300
TZOFFSETTO:+0200
TZNAME:EET
DTSTART:20251026T010000
END:STANDARD
END:VTIMEZONE
BEGIN:VEVENT
DTSTART;VALUE=DATE:20241220
DTEND;VALUE=DATE:20241223
DTSTAMP:20260425T005143
CREATED:20241124T124547Z
LAST-MODIFIED:20241124T124547Z
UID:4370-1734652800-1734911999@marianyoga.com
SUMMARY:Pre-Christmas Yoga Retreat\, Ορεινή Ναυπακτία
DESCRIPTION:Μια εβδομάδα πριν τα Χριστούγεννα σας προσκαλούμε σε ένα Pre-Christmas Yoga Retreat στην καταπράσινη Ορεινή Ναυπακτία.\nΕκεί που δύει η οροσειρά της Πίνδου\, ανατέλλει η πανέμορφη Ορεινή Ναυπακτία\, μία από τις ορεινότερες περιοχές της Ελλάδας\, που χαρακτηρίζεται από πυκνόφυτα ελατόδαση και επιβλητικές βουνοκορφές.Σε απόσταση 500 μέτρων από την Άνω Χώρα και σε υψόμετρο 1.100 μέτρων βρίσκεται χτισμένο το Crystal Mountain Hotel.Ετοιμαστείτε για ένα αξέχαστο τριήμερο\, στο οποίο θα βιώσουμε απολαυστικές αναζωογονητικές πρακτικές yoga\, πεζοπορία\, με οδηγό\, στο υπέροχο ελατοδάσος της Άνω Χώρας\, στιγμές χαλάρωσης και γαλήνης με φανταστική παρεούλα!\n\nΔιαμονή\nΘα φιλοξενηθούμε στο Crystal Mountain Hotel\, ένα πολυτελές ξενοδοχείο\, με μοναδική θέα προς τις ελάτινες παρυφές των Κραβάρων και το γραφικό χωριό της Άνω Χώρας. Στα δωμάτια του ξενοδοχείου θα συναντήσετε σύγχρονες ανέσεις\, σε μία ατμόσφαιρα θαλπωρής και οικειότητας που προσφέρει φιλοξενία υψηλού επιπέδου.\n\n\n\n\n\n\n\n\nΔραστηριότητες\n Στο καθημερινό μας πρόγραμμά μας θα κάνουμε μαθήματα yoga\, διαλογισμό και αναπνοές (pranayama) Πεζοπορία\, με οδηγό\, σε μονοπάτι που ξεκινά κοντά στο ξενοδοχείο\n\n\n\n Επίσκεψη στον καταρράκτη Τσουρνά που βρίσκεται δίπλα στο ξενοδοχείο\n\n\nΣτην τιμή περιλαμβάνονται\n2 διανυκτερεύσεις σε πολυτελές ξενοδοχείοΠλούσιο πρωινόΚαθημερινές πρακτικές yogaΔιαλογισμός και pranayamaΠεζοπορία με οδηγό βουνού\n\nΣτην τιμή δεν περιλαμβάνονται\n Γεύματα εκτός του πρωινούΈξοδα μετάβασης. Προτιμήστε το car pooling για οικολογικότερη και οικονομικότερη μετακίνηση\n\nΚόστος συμμετοχής\nΔίκλινο δωμάτιο\, 230€ ανά άτομοΤρίκλινο δωμάτιο\, 210€ ανά άτομοΜονόκλινο δωμάτιο\, 250€*Στις τιμές δεν περιλαμβάνεται Φ.Π.Α.\n\nΤρόπος πληρωμής-κρατήσεις\nΓια την κατοχύρωση της θέσης σας απαιτείται προκαταβολή 100€Δηλώσεις συμμετοχής μέχρι 29 ΝοεμβρίουΕξόφληση συνολικού ποσού έως 13 ΔεκεμβρίουΣε περίπτωση ακύρωσης η προκαταβολή δεν επιστρέφεται. Μετά τις 10 Δεκεμβρίου κανένα ποσό δεν επιστρέφεται.\n\n\nΑναλυτικές πληροφορίες\nΕλένη: 6972336489\, koreli.el@gmail.com\nΜαριάννα: 6972010087\, tilmariann2@gmail.com \n\nΔηλώστε συμμετοχή εδώ
URL:https://marianyoga.com/event/pre-christmas-yoga-retreat-oreini-nafpaktia/
LOCATION:Cystal Mountain Hotel\, Άνω Χώρα\, Ορεινή Ναυπακτία\, Αιτωλοακαρνανία\, 300 23\, Greece
CATEGORIES:Retreats
ATTACH;FMTTYPE=image/jpeg:https://marianyoga.com/wp-content/uploads/2023/10/nafpaktia_2024_site.jpg
END:VEVENT
END:VCALENDAR