BEGIN:VCALENDAR
VERSION:2.0
PRODID:-//Μαριάννα Τηλιοπούλου - ECPv6.15.20//NONSGML v1.0//EN
CALSCALE:GREGORIAN
METHOD:PUBLISH
X-ORIGINAL-URL:https://marianyoga.com
X-WR-CALDESC:Events for Μαριάννα Τηλιοπούλου
REFRESH-INTERVAL;VALUE=DURATION:PT1H
X-Robots-Tag:noindex
X-PUBLISHED-TTL:PT1H
BEGIN:VTIMEZONE
TZID:Europe/Athens
BEGIN:DAYLIGHT
TZOFFSETFROM:+0200
TZOFFSETTO:+0300
TZNAME:EEST
DTSTART:20230326T010000
END:DAYLIGHT
BEGIN:STANDARD
TZOFFSETFROM:+0300
TZOFFSETTO:+0200
TZNAME:EET
DTSTART:20231029T010000
END:STANDARD
BEGIN:DAYLIGHT
TZOFFSETFROM:+0200
TZOFFSETTO:+0300
TZNAME:EEST
DTSTART:20240331T010000
END:DAYLIGHT
BEGIN:STANDARD
TZOFFSETFROM:+0300
TZOFFSETTO:+0200
TZNAME:EET
DTSTART:20241027T010000
END:STANDARD
BEGIN:DAYLIGHT
TZOFFSETFROM:+0200
TZOFFSETTO:+0300
TZNAME:EEST
DTSTART:20250330T010000
END:DAYLIGHT
BEGIN:STANDARD
TZOFFSETFROM:+0300
TZOFFSETTO:+0200
TZNAME:EET
DTSTART:20251026T010000
END:STANDARD
END:VTIMEZONE
BEGIN:VEVENT
DTSTART;VALUE=DATE:20241019
DTEND;VALUE=DATE:20241030
DTSTAMP:20260425T041627
CREATED:20240527T160413Z
LAST-MODIFIED:20240727T181533Z
UID:4318-1729296000-1730246399@marianyoga.com
SUMMARY:Relax & Restore\, Bali Yoga Retreat
DESCRIPTION:Σας προσκαλούμε για 11 μέρες που θα σας μείνουν αξέχαστες στο παραδεισένιο Μπαλί! Χαλαρώστε και επαναφορτιστείτε περιτριγυρισμένοι από τοπία εκπληκτικής ομορφιάς\, με αναζωογονητικά μαθήματα yoga\, πλούσια τοπικά εδέσματα και εντυπωσιακές εκδρομές για να ανακαλύψετε τον πανέμορφο αυτό τόπο.\nΈνα παραμύθι που αρμενίζει στον Ινδικό ωκεανό\, το Μπαλί θα σας εντυπωσιάσει με χίλιους τρόπους. Τροπική βλάστηση\, μαγευτικά τοπία\, ακτές χιλιομέτρων\, όπου η άμπωτη φέρνει στα πόδια σας κοχύλια βυθών παραμυθένιων και η παλίρροια σας ακολουθεί μέχρι να απομακρυνθείτε από τα ρεύματα. Σαν από χέρι Θεϊκό\, παρατεταγμένοι αμέτρητοι ορυζώνες και αμέτρητοι ναοί\, άλλοι σιωπηλοί και άλλοι πολύβουοι από τους πιστούς. Το Μπαλί δε μοιάζει με κανέναν άλλο τόπο στο χάρτη\, ακροβατεί ανάμεσα στη γη και στον ουρανό\, ανάμεσα στη φαντασία και την πραγματικότητα.\nΑκολουθήστε μας εκεί στον εξωτικό επίγειο παράδεισο.\n\nΣε περιμένουμε…Ελένη-Μαριάννα\n\nΚαθώς το ταξίδι μας έγινε πολύ γρήγορα fully booked\, εξασφαλίσαμε μερικές επιπλέον θέσεις.\n\nΠερισσότερες πληροφορίες:Ελένη: 6972336489\, koreli.el@gmail.comΜαριάννα: 6972010087\, tilmariann2@gmail.com\nΔηλώσεις συμμετοχής:https://marianyoga.com/registration-form/\n\nΜια γεύση από το ταξίδι μας…\n Διαμονή σε πολυτελή ξενοδοχείαNusa DuaMerusaka Resort 5* σε deluxe δωμάτιοhttps://merusaka.com/\nΥψίπεδα UbudThe Sakti Garden Ubud 4* σε deluxe δωμάτιοhttps://saktigarden.com/\n\nΚαθημερινό πρόγραμμα ταξιδιού\n1+2η μέρα: Πτήση από την Ελλάδα για Μπαλί – Nusa Dua.Μεσημεριανή συγκέντρωση στο αεροδρόμιο και πτήση για το νησί των Θεών\, το εξωτικό Μπαλί. Άφιξη στο Μπαλί το απόγευμα της επόμενης μέρας. Μετά τις διατυπώσεις και την παραλαβή των αποσκευών μας\, συνάντηση με τον τοπικό μας ξεναγό. Κατά τη διάρκεια της μεταφοράς σας στο ξενοδοχείο θα λάβετε τις αρχικές βασικές πληροφορίες για το νησί και τις καθημερινές δραστηριότητες. Τακτοποίηση στο δωμάτιο και χρόνος για ξεκούραση.\n\n3η μέρα: Νusa Dua\, εκδρομή στο ναό Uluwatu και παραλία SeminyakΠρωινό και χρόνος ελεύθερος για να χαρείτε τις εγκαταστάσεις του ξενοδοχείου σας ή να κάνετε βόλτα στην παραλία Nusa Dua και να χαλαρώσετε με το πρώτο σας Μπαλινέζικο μασάζ. Νωρίς το μεσημέρι θα ανακαλύψετε τα καλύτερα σημεία του νότιου Μπαλί. Πρώτη στάση η επίσκεψη του περίφημου ναού Uluwatu στο νοτιοδυτικότερο σημείο του Μπαλί με τη μαγευτική θέα στο απέραντο γαλάζιο και φόντο το μοναδικό ηλιοβασίλεμα του Μπαλί. Επόμενη στάση οι κοσμοπολίτικες παραλίες Kuta και Seminyak\, το κέντρο αγοράς και ψυχαγωγίας του Μπαλί\, όπου μπορείτε να περιπλανηθείτε στα δρομάκια γεμάτα με υπέροχα καταστήματα\, καφέ και τοπικά εστιατόρια. Απολαύσετε υπέροχο ηλιοβασίλεμα από το lounge bar Ku.De.Ta ή Potato Head.\n\n4η μέρα: Μπαλί (ελεύθερη μέρα)Πρωινό και ελεύθερα μέρα να απολαύσετε τις εγκαταστάσεις του ξενοδοχείου σας ή να επισκεφθείτε κάποια από τις υπέροχες παραλίες της χερσονήσου Μπούκιτ\, με επιλογές θαλάσσιων δραστηριοτήτων. Εναλλακτικά σας προτείνουμε να κάνετε κάποια από τις προτεινόμενες δραστηριότητες ή εκδρομές\, όπως ο γύρος του Νότιου Μπαλί με επίσκεψη του ναού Uluwatu\, την ολοήμερη κρουαζιέρα στα νησιά Lembongan ή Nusa Penida. Αξίζει να πιείτε ένα κοκτέιλ στο θέρετρο Ayana και το διάσημο Ayana Rock Bar\, με θέα το Μπαλινέζικο ηλιοβασίλεμα\, πριν καταλήξετε στην παραλία Jimbaran με τις γνωστές αστακοταβέρνες.\n\n5η μέρα: Εκδρομή στο Κεντρικό & Βόρειο Μπαλί – UbudΠρόγευμα και παράδοση δωματίων. Αναχώρηση στις 09.00 από τo ξενοδοχείο και επίσκεψη του σημαντικότερου αξιοθέατου του νησιού\, του εμβληματικού ναού Tanah Lot\, χτισμένου πάνω σε βράχο μέσα στον Ινδικό ωκεανό. Συνεχίζουμε με επίσκεψη του Βασιλικού ναού Taman Ayun\, όπου θα μάθετε περισσότερα στοιχεία για την αρχιτεκτονική των Μπαλινέζικων ναών και για την Ινδουιστική τους παράδοση. Μέσα από μαγευτικά τοπία και χωριά του νησιού\, θα φτάσετε μέχρι την υπέροχη λίμνη Beratan για να περιηγηθείτε στο μαγευτικό ναό Ulun Danu. Η τοποθεσία είναι ανεπανάληπτη\, καθώς γύρω της βρίσκονται τέσσερα βουνά και ηφαίστεια\, δημιουργώντας μια εκπληκτική ατμόσφαιρα και εικόνα. Μεταφορά στο ξενοδοχείο σας και δείπνο. Τακτοποίηση στα δωμάτια.\n\n6η μέρα: Ubud\, Nαός Tirta Empul και τελετή εξαγνισμούΠρωινό και μεταφορά στο χωριό Tampak Siring\, όπου θα επισκεφθείτε το διάσημο ναό Tirta Empul με το νερό της ιερής πηγής και το παλάτι που έφτιαξε ο πρώτος πρόεδρος της Ινδονησίας. Εδώ θα έχουμε τη μοναδική ευκαιρία του εξαγνισμού στις 11 πηγές του ναού\, μια ανεπανάληπτη πνευματική εμπειρία. Επιστροφή στο ξενοδοχείο μας και ελεύθερος χρόνος.\n\n7η μέρα: Ubud\, White water rafting & The Royal Pita Maha experienceΠρωινό και αναχώρηση για μια κορυφαία δραστηριότητα του νησιού\, την κατάβαση (white water rafting) του ποταμού Αγιούνγκ. Θα απολαύσουμε τη μαγευτική φύση και 90 λεπτά κατάβασης μέσα από την οργιώδη βλάστηση. Η δραστηριότητα είναι εύκολη και δεν απαιτείται προηγούμενη εμπειρία. Απλά προσέξτε γιατί θα βραχείτε πολύ… Θα καταλήξετε στο ξενοδοχείο The Royal Pita Maha\, όπου θα έχουμε χρόνο για να χαρούμε τις εγκαταστάσεις του μοναδικού αυτού ξενοδοχείου και φυσικά για όσους θέλουν ένα απολαυστικό Μπαλινέζικο μασάζ ή yoga. Επιστροφή στο ξενοδοχείο.\n\n8η μέρα: Ubud\, Tukad Cepung waterfallΠρωινό και μεταφορά στο κέντρο του Ubud θα χαρείτε πρακτική σε τοπικό yoga shala. Μετά το μάθημά σας\, θα επισκεφθούμε τον εντυπωσιακό καταρράκτη Tukad Cepung φωλιασμένο σε υπέροχο τροπικό περιβάλλον. Επιστροφή στο ξενοδοχείο.\n\n9η μέρα: UbudΠρόγευμα και ελεύθερη μέρα για να απολαύσετε τη μαγευτική φύση\, τα πολύχρωμα χωριά\, τους μυστηριακούς ναούς και τις υπαίθριες αγορές της Μπαλινέζικης ενδοχώρας. Σας προτείνουμε να επισκεφτείτε κάποιον από τους υπέροχους ναούς\, που περιβάλλουν το Ubud\, το γνωστό monkey forest ή το θεματικό πάρκο των ελεφάντων στο Τάρο. Σας προτείνουμε επίσης να κάνετε ολοήμερη εκδρομή στις ανατολικές ακτές με επίσκεψη του ναού Μπεσακίχ ή για τους λάτρεις της πεζοπορίας\, επιλέξτε την πεζοπορία στο ηφαίστειο Μπατούρ. Ολοκληρώστε τη διαμονή σας με ένα αναζωογονητικό Μπαλινέζικο μασάζ.\n\n10-11η μέρα: Μπαλί – πτήση επιστροφής.Πρωινό και ελεύθερος χρόνος μέχρι τις 15.00\, όταν θα μεταφερθείτε στο αεροδρόμιο και θα επιβιβαστείτε στην πτήση επιστροφής. Tο πρωί της επόμενης μέρας θα φτάσετε πίσω στην πατρίδα γεμάτοι υπέροχες εικόνες και αναμνήσεις.
URL:https://marianyoga.com/event/relax-restore-bali-yoga-retreat/
LOCATION:Μπαλί\, Ινδονησία
CATEGORIES:Retreats
ATTACH;FMTTYPE=image/jpeg:https://marianyoga.com/wp-content/uploads/2024/05/Bali_Yoga_Retreat_site.jpg
END:VEVENT
END:VCALENDAR