BEGIN:VCALENDAR
VERSION:2.0
PRODID:-//Μαριάννα Τηλιοπούλου - ECPv6.15.20//NONSGML v1.0//EN
CALSCALE:GREGORIAN
METHOD:PUBLISH
X-ORIGINAL-URL:https://marianyoga.com
X-WR-CALDESC:Events for Μαριάννα Τηλιοπούλου
REFRESH-INTERVAL;VALUE=DURATION:PT1H
X-Robots-Tag:noindex
X-PUBLISHED-TTL:PT1H
BEGIN:VTIMEZONE
TZID:Europe/Athens
BEGIN:DAYLIGHT
TZOFFSETFROM:+0200
TZOFFSETTO:+0300
TZNAME:EEST
DTSTART:20220327T010000
END:DAYLIGHT
BEGIN:STANDARD
TZOFFSETFROM:+0300
TZOFFSETTO:+0200
TZNAME:EET
DTSTART:20221030T010000
END:STANDARD
BEGIN:DAYLIGHT
TZOFFSETFROM:+0200
TZOFFSETTO:+0300
TZNAME:EEST
DTSTART:20230326T010000
END:DAYLIGHT
BEGIN:STANDARD
TZOFFSETFROM:+0300
TZOFFSETTO:+0200
TZNAME:EET
DTSTART:20231029T010000
END:STANDARD
BEGIN:DAYLIGHT
TZOFFSETFROM:+0200
TZOFFSETTO:+0300
TZNAME:EEST
DTSTART:20240331T010000
END:DAYLIGHT
BEGIN:STANDARD
TZOFFSETFROM:+0300
TZOFFSETTO:+0200
TZNAME:EET
DTSTART:20241027T010000
END:STANDARD
END:VTIMEZONE
BEGIN:VEVENT
DTSTART;TZID=Europe/Athens:20231215T140000
DTEND;TZID=Europe/Athens:20231217T140000
DTSTAMP:20260425T204654
CREATED:20231031T142345Z
LAST-MODIFIED:20231031T142505Z
UID:4130-1702648800-1702821600@marianyoga.com
SUMMARY:Pre-Christmas Yoga Retreat\, Βυτίνα
DESCRIPTION:Μια εβδομάδα πριν τα Χριστούγεννα σας προσκαλούμε σε ένα Pre-Christmas Yoga Retreat στην καταπράσινη Βυτίνα.\nΣτους πρόποδες του Μαινάλου και σε υψόμετρο 1033μ. βρίσκεται χτισμένη η πανέμορφη Βυτίνα\, με τα πετρόκτιστα αρχοντικά της\, τους καταπράσινους κήπους της\, τη γεμάτη ζωή πλατεία της και τα γραφικά σοκάκια της.\nΕτοιμαστείτε για ένα αξέχαστο τριήμερο\, στο οποίο θα βιώσουμε απολαυστικές αναζωογονητικές πρακτικές yoga\, πεζοπορία με οδηγό στο υπέροχο δάσος του Μαινάλου\, με τα πανύψηλα έλατα και τα κρυστάλλινα ρυάκια\, στιγμές χαλάρωσης και γαλήνης με φανταστική παρεούλα! \nΔιαμονή\nΘα φιλοξενηθούμε στο Grand Vytina & Suites\, ένα υπέροχο luxury hotel στην καρδιά της Βυτίνας\, με μοναδική θέα προς το Μαίναλο και το δάσος του. \n \n \nΗ πέτρα και το ξύλο κυριαρχούν σε όλους τους χώρους του ξενοδοχείου και τα δωμάτιά του είναι εξαιρετικά\, προσφέροντας φιλοξενία υψηλού επιπέδου. \n\nΑκόμη θα απολαύσουμε αγνά τοπικά φαγητά σε μια οικογενειακή παραδοσιακή ταβέρνα\, δίπλα στο τζάκι. \n \nΔραστηριότητες\n\n Στο καθημερινό μας πρόγραμμά μας θα κάνουμε μαθήματα yoga\, διαλογισμό και αναπνοές (pranayama).\n Πεζοπορία στο χωριό Ελάτη σε κυκλικό μονοπάτι διάρκειας 2.30-3 ωρών (6-7 χλμ) παράπλευρα στον τοπικό ποταμό Μυλαόντα. Κατά το περπάτημα θα δείξουμε τακτικές επιβίωσης\, βότανα\, ξυλομύκητες και μανιτάρια αν συναντήσουμε.\n\n \n\n Προαιρετική επίσκεψη στη μονή Φιλοσόφου και στο γραφικό χωριό της Στεμνίτσας.\n\n \n \nΣτην τιμή περιλαμβάνονται\n\n2 διανυκτερεύσεις σε πολυτελές ξενοδοχείο\nΠλούσιο πρωινό με μπουφέ\n2 πλούσια γεύματα με αγνά τοπικά εδέσματα\nΚαθημερινές πρακτικές yoga\nΔιαλογισμός και pranayama\nΠεζοπορία με οδηγό βουνού\nΕπίσκεψη σε γραφικά χωριά\n\nΣτην τιμή δεν περιλαμβάνονται\n\nΈξοδα μετάβασης. Προτιμήστε το car pooling για οικολογικότερη και οικονομικότερη μετακίνηση\nΑλκοόλ\n\nΚόστος συμμετοχής\nΔίκλινο δωμάτιο\, 290€ ανά άτομο\nΤρίκλινο δωμάτιο\, 270€ ανά άτομο\nΜονόκλινο δωμάτιο\, 350€\n*Στις τιμές δεν περιλαμβάνεται Φ.Π.Α. \nΤρόπος πληρωμής – ακυρώσεις\nΓια την κατοχύρωση της θέσης σας απαιτείται προκαταβολή 100€\nΔηλώσεις συμμετοχής μέχρι 17 Νοεμβρίου\nΕξόφληση συνολικού ποσού έως 1 Δεκεμβρίου\n\nΣε περίπτωση ακύρωσης η προκαταβολή δεν επιστρέφεται.\nΜετά την 1η Δεκεμβρίου κανένα ποσό δεν επιστρέφεται.\n\n\n\nΑναλυτικές πληροφορίες\nΕλένη: 6972336489\, koreli.el@gmail.com\nΜαριάννα: 6972010087\, tilmariann2@gmail.com \n\nΔηλώστε συμμετοχή εδώ
URL:https://marianyoga.com/event/pre-christmas-yoga-retreat-vytina/
LOCATION:Grand Vytina Hotel &Suites\, Βυτίνα\, Αρκαδίας\, Βυτίνα\, Αρκαδία\, 22010
CATEGORIES:Retreats
ATTACH;FMTTYPE=image/jpeg:https://marianyoga.com/wp-content/uploads/2023/10/vytina-pre-christmas-site.jpg
END:VEVENT
END:VCALENDAR